BEGIN:VCALENDAR
VERSION:2.0
PRODID:-//keymedia Wien | News Publishing - ECPv6.15.20//NONSGML v1.0//EN
CALSCALE:GREGORIAN
METHOD:PUBLISH
X-ORIGINAL-URL:https://www.keymedia.at
X-WR-CALDESC:Veranstaltungen für keymedia Wien | News Publishing
REFRESH-INTERVAL;VALUE=DURATION:PT1H
X-Robots-Tag:noindex
X-PUBLISHED-TTL:PT1H
BEGIN:VTIMEZONE
TZID:Europe/Vienna
BEGIN:DAYLIGHT
TZOFFSETFROM:+0100
TZOFFSETTO:+0200
TZNAME:CEST
DTSTART:20250330T010000
END:DAYLIGHT
BEGIN:STANDARD
TZOFFSETFROM:+0200
TZOFFSETTO:+0100
TZNAME:CET
DTSTART:20251026T010000
END:STANDARD
BEGIN:DAYLIGHT
TZOFFSETFROM:+0100
TZOFFSETTO:+0200
TZNAME:CEST
DTSTART:20260329T010000
END:DAYLIGHT
BEGIN:STANDARD
TZOFFSETFROM:+0200
TZOFFSETTO:+0100
TZNAME:CET
DTSTART:20261025T010000
END:STANDARD
BEGIN:DAYLIGHT
TZOFFSETFROM:+0100
TZOFFSETTO:+0200
TZNAME:CEST
DTSTART:20270328T010000
END:DAYLIGHT
BEGIN:STANDARD
TZOFFSETFROM:+0200
TZOFFSETTO:+0100
TZNAME:CET
DTSTART:20271031T010000
END:STANDARD
END:VTIMEZONE
BEGIN:VEVENT
DTSTART;TZID=Europe/Vienna:20260529T183000
DTEND;TZID=Europe/Vienna:20260529T213000
DTSTAMP:20260421T151822
CREATED:20260210T182737Z
LAST-MODIFIED:20260210T182737Z
UID:10026933-1780079400-1780090200@www.keymedia.at
SUMMARY:25 Jahre WestLicht: Galaabend im Fotomuseum
DESCRIPTION:Seit seiner Gründung im Jahr 2001 durch den Fotografen\, Sammler und Kurator Peter Coeln hat sich WestLicht zu einer international anerkannten Institution für Fotografie entwickelt. Als Ausstellungshaus\, Kameramuseum und Diskursraum ist WestLicht heute ein Fixpunkt der europäischen Fotoszene – mit starker internationaler Vernetzung. \nHöhepunkt des Jubiläums\nDer Galaempfang am Freitag\, 29. Mai 2026\, bildet den gesellschaftlichen Mittelpunkt der mehrtägigen Feierlichkeiten. Fotograf:innen\, Künstler:innen\, Sammler:innen sowie langjährige Wegbegleiter und Unterstützer des Hauses kommen an diesem Abend im WestLicht zusammen. Der Galaabend versteht sich als kuratierter Treffpunkt der internationalen Fotografie-Community zwischen Rückblick\, Austausch und Ausblick. \nWestLicht | © Marlene Fröhlich | luxundlumen \nJubiläumsprogramm\nInhaltlicher Höhepunkt ist die Ausstellung PLATON. PEOPLE POWER des britischen Fotografen Platon\, der seit Jahrzehnten politische Entscheidungsträger\, Aktivist:innen und Künstler:innen porträtiert und damit globale Bildikonen geschaffen hat. \nErgänzt wird das Jubiläum unter anderem durch eine Kamera- und Fotoauktion im benachbarten OstLicht\, die Erweiterung des Kameramuseums sowie weitere Ausstellungsschwerpunkte im Jahresverlauf. \nWien als Bühne der Fotografie\nMit dem Jubiläum\, dem Galaempfang und dem Tag der offen Tür positioniert sich WestLicht erneut als Knotenpunkt der Fotografie. Die Verbindung aus historischer Sammlung\, zeitgenössischem Ausstellungsprogramm und gesellschaftlicher Vernetzung macht das Haus zu einem Ort\, an dem Fotografie hochgelebt wird. \nInfo\nWas: Galaabend „25 Jahre WestLicht“\nWann: Freitag\, 29. Mai 2026\nWo: WestLicht – Schauplatz für Fotografie\nAdresse: Westbahnstraße 40\, 1070 Wien\nBundesland: Wien\nVeranstalter: WestLicht – Schauplatz für Fotografie\nWebsite: Mehr Infos auf der Homepage \n\nTitelbild: WestLicht Geschäftsführer Peter Coeln | © keymedia.at
URL:https://www.keymedia.at/termin/25-jahre-westlicht-galaabend-im-fotomuseum/
LOCATION:Fotomuseum WestLicht\, Westbahnstraße 40\, Wien\, 1070\, Österreich
CATEGORIES:Network Kalender
ATTACH;FMTTYPE=image/jpeg:https://www.keymedia.at/wp-content/uploads/2024/02/DSC05794.jpg
ORGANIZER;CN="WestLicht":MAILTO:info@westlicht.com
GEO:48.2021644;16.3421047
X-APPLE-STRUCTURED-LOCATION;VALUE=URI;X-ADDRESS=Fotomuseum WestLicht Westbahnstraße 40 Wien 1070 Österreich;X-APPLE-RADIUS=500;X-TITLE=Westbahnstraße 40:geo:16.3421047,48.2021644
END:VEVENT
BEGIN:VEVENT
DTSTART;TZID=Europe/Vienna:20260531T100000
DTEND;TZID=Europe/Vienna:20260531T210000
DTSTAMP:20260421T151822
CREATED:20260210T181953Z
LAST-MODIFIED:20260210T181953Z
UID:10026932-1780221600-1780261200@www.keymedia.at
SUMMARY:25 Jahre WestLicht: Tag der offenen Tür
DESCRIPTION:Seit 25 Jahren ist WestLicht ein zentraler Ort der Fotografie in Wien. Zum Abschluss der Jubiläumsfeierlichkeiten lädt das Haus am Sonntag\, 31. Mai 2026\, zu einem Tag der offenen Tür – bei freiem Eintritt und mit Einblicken in Ausstellungen\, Sammlung und Museumsbetrieb. \nFotografie für alle\nDer Tag richtet sich bewusst an ein breites Publikum. Besucherinnen und Besucher haben die Möglichkeit\, das Fotomuseum ohne Eintrittshürde kennenzulernen\, aktuelle Ausstellungen zu besuchen und die besondere Atmosphäre des Hauses zu erleben. WestLicht versteht sich seit seiner Gründung als offener Ort des Austauschs. Und dieser Anspruch steht an diesem Tag im Mittelpunkt. \nFotoausstellung im WestLicht | © Leonardo Ramirez Photography \nJubiläumsausstellung\nIm Fokus steht die Ausstellung PLATON. PEOPLE POWER des britischen Fotografen Platon\, die Macht\, Verantwortung und Menschlichkeit anhand ikonischer Porträts thematisiert. Ergänzt wird der Ausstellungsbesuch durch Einblicke in das erweiterte Kameramuseum\, das historische und digitale Perspektiven auf die Geschichte der Fotografie verbindet. \nEin Blick hinter die Kulissen\nDer Tag der offenen Tür bildet den Abschluss der Jubiläumswoche und lädt dazu ein\, WestLicht als Ort der Begegnung\, der Bildung und der visuellen Auseinandersetzung zu entdecken. \nInfo\nWas: Tag der offenen Tür – 25 Jahre WestLicht\nWann: Sonntag\, 31. Mai 2026\nWo: WestLicht – Schauplatz für Fotografie\nAdresse: Westbahnstraße 40\, 1070 Wien\nBundesland: Wien\nEintritt: frei\nVeranstalter: WestLicht – Schauplatz für Fotografie\nWebsite: https://www.westlicht.com \n\nTitelbild: © keymedia.at
URL:https://www.keymedia.at/termin/25-jahre-westlicht-tag-der-offenen-tuer/
LOCATION:Fotomuseum WestLicht\, Westbahnstraße 40\, Wien\, 1070\, Österreich
CATEGORIES:Freizeit Kalender
ATTACH;FMTTYPE=image/jpeg:https://www.keymedia.at/wp-content/uploads/2024/09/westlicht-IMG_6261.jpg
ORGANIZER;CN="WestLicht":MAILTO:info@westlicht.com
GEO:48.2021644;16.3421047
X-APPLE-STRUCTURED-LOCATION;VALUE=URI;X-ADDRESS=Fotomuseum WestLicht Westbahnstraße 40 Wien 1070 Österreich;X-APPLE-RADIUS=500;X-TITLE=Westbahnstraße 40:geo:16.3421047,48.2021644
END:VEVENT
END:VCALENDAR