BEGIN:VCALENDAR
VERSION:2.0
PRODID:-//keymedia Wien | News Publishing - ECPv6.15.20//NONSGML v1.0//EN
CALSCALE:GREGORIAN
METHOD:PUBLISH
X-WR-CALNAME:keymedia Wien | News Publishing
X-ORIGINAL-URL:https://www.keymedia.at
X-WR-CALDESC:Veranstaltungen für keymedia Wien | News Publishing
REFRESH-INTERVAL;VALUE=DURATION:PT1H
X-Robots-Tag:noindex
X-PUBLISHED-TTL:PT1H
BEGIN:VTIMEZONE
TZID:Europe/Vienna
BEGIN:DAYLIGHT
TZOFFSETFROM:+0100
TZOFFSETTO:+0200
TZNAME:CEST
DTSTART:20220327T010000
END:DAYLIGHT
BEGIN:STANDARD
TZOFFSETFROM:+0200
TZOFFSETTO:+0100
TZNAME:CET
DTSTART:20221030T010000
END:STANDARD
BEGIN:DAYLIGHT
TZOFFSETFROM:+0100
TZOFFSETTO:+0200
TZNAME:CEST
DTSTART:20230326T010000
END:DAYLIGHT
BEGIN:STANDARD
TZOFFSETFROM:+0200
TZOFFSETTO:+0100
TZNAME:CET
DTSTART:20231029T010000
END:STANDARD
BEGIN:DAYLIGHT
TZOFFSETFROM:+0100
TZOFFSETTO:+0200
TZNAME:CEST
DTSTART:20240331T010000
END:DAYLIGHT
BEGIN:STANDARD
TZOFFSETFROM:+0200
TZOFFSETTO:+0100
TZNAME:CET
DTSTART:20241027T010000
END:STANDARD
END:VTIMEZONE
BEGIN:VEVENT
DTSTART;TZID=Europe/Vienna:20230107T193000
DTEND;TZID=Europe/Vienna:20230107T210000
DTSTAMP:20260423T125714
CREATED:20230104T132429Z
LAST-MODIFIED:20230104T132429Z
UID:10023490-1673119800-1673125200@www.keymedia.at
SUMMARY:Mini & Claus rocken am Riesenradplatz
DESCRIPTION:Die zwei Musiker Hannes „Mini“ Oberger und Claus Richtar aus Niederösterreich verbindet so einiges: Sie sind miteinander verwandt\, beste Freunde und musizieren seit der Jugend zusammen. Mit ihrem Debütalbum „Gestatten\, Mini & Claus“ stellen die beiden erstmals ihre eigenen Songs der Öffentlichkeit vor. Unzählige Auftritte bei Festln\, Bällen\, Hochzeiten\, Feiern und und Clubs in ganz Österreich festigten ihren Ruf als hervorragende Live-Interpreten von Austropop\, Pop und Rockhits. Nun sind sie wieder einmal in Wien am Start. \nHeißes Konzert von Mini & Claus\nUnter dem Motto “Der Prater rockt” bietet der “Wintermarkt am Riesenradplatz” im Prater auch in der kalten Jahreszeit ein vielseitiges Unterhaltungsprogramm. Kulinarische Highlights\, Attraktionen und Live-Musik stehen am Programm. \nDer “Wintermarkt am Riesenradplatz” im Prater bietet ein abwechslungsreiches Programm. | © Julius Silver \nDie beiden Vollblutmusiker mit über 25 Jahren Bühnenerfahrung werden mit ihrer witzigen Show die Menge im Prater begeistern und den Schneemann zum Schmelzen bringen. Ihr Versprechen ans Publikum: “Es wir Euch jetzt auch zu Hause oder unterwegs von Euren Sesseln fetzen und wir werden Euren Stimmungsmuskeln einen Kater bescheren. Lernt Mini & Claus kennen und hört Euch die Musik an!” Und all das bei freiem Eintritt. \nIm November 2019 präsentierten Hannes Oberger und Claus Richtar ihr Album | © miniundclaus.com \n(PA)
URL:https://www.keymedia.at/termin/mini-claus-rocken-am-riesenradplatz/
LOCATION:Wintermarkt am Riesenradplatz\, Riesenradplatz\, Wien\, 1020\, Österreich
CATEGORIES:Markt
ATTACH;FMTTYPE=image/jpeg:https://www.keymedia.at/wp-content/uploads/2019/11/pr_gestatten3.jpg
ORGANIZER;CN="Prater Wien GmbH":MAILTO:office@praterwien.com
GEO:48.2171945;16.3960797
X-APPLE-STRUCTURED-LOCATION;VALUE=URI;X-ADDRESS=Wintermarkt am Riesenradplatz Riesenradplatz Wien 1020 Österreich;X-APPLE-RADIUS=500;X-TITLE=Riesenradplatz:geo:16.3960797,48.2171945
END:VEVENT
END:VCALENDAR